BEGIN:VCALENDAR
VERSION:2.0
PRODID:-//Calderone News - ECPv6.15.20//NONSGML v1.0//EN
CALSCALE:GREGORIAN
METHOD:PUBLISH
X-ORIGINAL-URL:https://calderone.news
X-WR-CALDESC:Eventi per Calderone News
REFRESH-INTERVAL;VALUE=DURATION:PT1H
X-Robots-Tag:noindex
X-PUBLISHED-TTL:PT1H
BEGIN:VTIMEZONE
TZID:Europe/Rome
BEGIN:DAYLIGHT
TZOFFSETFROM:+0100
TZOFFSETTO:+0200
TZNAME:CEST
DTSTART:20190331T010000
END:DAYLIGHT
BEGIN:STANDARD
TZOFFSETFROM:+0200
TZOFFSETTO:+0100
TZNAME:CET
DTSTART:20191027T010000
END:STANDARD
BEGIN:DAYLIGHT
TZOFFSETFROM:+0100
TZOFFSETTO:+0200
TZNAME:CEST
DTSTART:20200329T010000
END:DAYLIGHT
BEGIN:STANDARD
TZOFFSETFROM:+0200
TZOFFSETTO:+0100
TZNAME:CET
DTSTART:20201025T010000
END:STANDARD
BEGIN:DAYLIGHT
TZOFFSETFROM:+0100
TZOFFSETTO:+0200
TZNAME:CEST
DTSTART:20210328T010000
END:DAYLIGHT
BEGIN:STANDARD
TZOFFSETFROM:+0200
TZOFFSETTO:+0100
TZNAME:CET
DTSTART:20211031T010000
END:STANDARD
END:VTIMEZONE
BEGIN:VEVENT
DTSTART;TZID=Europe/Rome:20200928T090000
DTEND;TZID=Europe/Rome:20201010T210000
DTSTAMP:20260425T132152
CREATED:20200924T185238Z
LAST-MODIFIED:20200924T185238Z
UID:1904-1601283600-1602363600@calderone.news
SUMMARY:Milano Design City 2020: oltre il Fuorisalone
DESCRIPTION:Due settimane all’insegna del design\, di eventi negli showroom e negli altri luoghi fashion di Milano\, e non solo. Vi presentiamo la Milano Design City 2020 che regala alla città la settimana più bella e festosa dell’anno. \nDiciamocelo\, quest’anno il Fuorisalone è mancato un po’ a tutti. Nonostante l’impegno e l’organizzazione di un’edizione in digitale\, passeggiare tra le vie della città lasciandosi incantare e stupire dalle creazioni di design è tutta un’altra cosa. Ecco perché Studiolabo\, ideatore di Fuorisalone.it e del Brera Design District\, e Comune di Milano hanno dato vita alla Milano Design City. \nDesign a cielo aperto per il “Fuorisalone” settembrino\nMilano Design City 2020 prenderà in un certo senso il posto del Fuorisalone\, la manifestazione che da anni si accompagna al Salone del Mobile e che consacra Milano capitale mondiale del design. Eventi\, workshop\, talk ed esposizioni\, si susseguiranno per due settimane tra il 28 settembre e il 10 ottobre\, animando le vie della città. \nL’elenco degli eventi collaterali e pressoché infinito: oltre all’idea di “museo diffuso” che trasforma la città in un vero e proprio museo a cielo aperto\, ci sarà anche il porte aperte (con mascherina) delle botteghe del quartiere Isola. Molti degli eventi ruoteranno poi attorno al tema della riprogettazione degli spazi urbani\, della sostenibilità e dell’economia circolare. \nCoinvolti i quartieri più interessanti\nIl centro della manifestazione sarà il quartiere Brera con il suo 5VIE D’N’A – Design ‘n’Art for a Better World. Mentre il Distretto Durini Design ospiterà alcuni dei brand più famosi al mondo come B&B Italia\, Cassina\, Arclinea\, Gallotti&Radice. Non mancheranno Molteni&C\, Dada\, Barovier&Toso\, Giorgetti\, Natuzzi Italia\, Lea Ceramiche\, Omnidecor\, Nava / MH Way\, Ceccotti Collezioni. Da vede anche Ivano Redaelli\, Porro\, Scic Italia\, Technogym\, L’Arabesque\, Design Republic. \nAnche i quartieri di Tortona\, Isola\, Procaccini e Bovisa ospiteranno diverse manifestazioni\, alcune delle quali fruibili in digitale attraverso la piattaforma dell’evento. \nMilano Design City sarà una manifestazione dedicata alla cultura del progetto e dell’innovazione\, con un’attenzione particolare alla riprogettazione degli spazi urbani. Il tutto nel massimo rispetto delle norme anti-covid\, così da garantire la sicurezza dei visitatori. Gli eventi saranno ospitati negli showroom\, nei musei e nelle gallerie d’arte\, e in alcuni spazi appositamente allestiti. \nL’accesso sarà gestito in maniera indipendente dagli organizzatori: sul sito ufficiale è disponibile la lista degli eventi e tutte le informazioni per programmare la visita in sicurezza.
URL:https://calderone.news/evento/milano-design-city-2020-oltre-il-fuorisalone/
LOCATION:Milano Design City\, via Brera\, Milano\, 20121\, Italia
CATEGORIES:Lombardia,milano
ATTACH;FMTTYPE=image/png:https://calderone.news/wp-content/uploads/2020/09/Milano-Design-City-2020.png
ORGANIZER;CN="Studiolabo S.r.l.":MAILTO:info@fuorisalone.it
END:VEVENT
END:VCALENDAR